Felt | Verdi |
AlreadyApplied | True |
Aperture | 7.1 |
ApertureValue | 7.1 |
ApproximateFocusDistance | 4294967295 |
Artist | EVEN SCHJENKEN |
BitsPerSample (1) | 8 8 8 |
BitsPerSample | 8 |
BlueHue | 0 |
BlueSaturation | 0 |
Brightness | +50 |
By-line | EVEN SCHJENKEN |
CameraProfile | Adobe Standard |
CFAPattern | [Red,Green][Green,Blue] |
ChromaticAberrationB | 0 |
ChromaticAberrationR | 0 |
CircleOfConfusion | 0.020 mm |
Clarity | +27 |
ColorComponents | 3 |
ColorMode | RGB |
ColorNoiseReduction | 25 |
ColorNoiseReductionDetail | 50 |
ColorSpace | Uncalibrated |
ColorTemperature | 6250 |
Contrast (1) | +44 |
Contrast | Normal |
ConvertToGrayscale | False |
Copyright | EVEN SCHJENKEN - EvenFoto.no |
CopyrightNotice | EVEN SCHJENKEN - EvenFoto.no |
CreateDate (1) | 2012:04:24 19:47:53.55 |
CreateDate | 2012:04:24 19:47:53 |
Creator | EVEN SCHJENKEN |
CreatorTool | Adobe Photoshop CS5.1 Macintosh |
CustomRendered | Normal |
DateCreated (1) | 2012:04:24 |
DateCreated | 2012:04:24 19:47:53.055 |
DateTimeOriginal | 2012:04:24 19:47:53 |
Defringe | 0 |
DigitalZoomRatio | 1 |
DOF | inf (0.70 m - inf) |
ExifImageHeight | 850 |
ExifImageWidth | 1280 |
Exposure | 0.00 |
ExposureCompensation | +1 |
ExposureMode | Auto |
ExposureProgram | Aperture-priority AE |
ExposureTime | 1/30 |
FillLight | 9 |
Flash | No Flash |
FNumber | 7.1 |
FocalLength | 10.0 mm |
FocalLength35efl | 10.0 mm (35 mm equivalent: 15.0 mm) |
FocalLengthIn35mmFormat | 15 mm |
Format | image/jpeg |
FOV | 100.4 deg |
GainControl | None |
GradientBasedCorrActive | true |
GradientBasedCorrAmount | 1.000000 |
GradientBasedCorrBrightness | 0.000000 |
GradientBasedCorrClarity | 0.000000 |
GradientBasedCorrContrast | 0.000000 |
GradientBasedCorrExposure (1) | -0.337500 |
GradientBasedCorrExposure (2) | 0.200000 |
GradientBasedCorrExposure | -0.275000 |
GradientBasedCorrHue | 70.000000 |
GradientBasedCorrMaskFullX (1) | 0.581234 |
GradientBasedCorrMaskFullX (2) | 0.608942 |
GradientBasedCorrMaskFullX | 0.576740 |
GradientBasedCorrMaskFullY (1) | 0.367773 |
GradientBasedCorrMaskFullY (2) | 0.893839 |
GradientBasedCorrMaskFullY | 0.249243 |
GradientBasedCorrMaskValue | 1.000000 |
GradientBasedCorrMaskWhat | Mask/Gradient |
GradientBasedCorrMaskZeroX (1) | 0.581864 |
GradientBasedCorrMaskZeroX (2) | 0.612720 |
GradientBasedCorrMaskZeroX | 0.570757 |
GradientBasedCorrMaskZeroY (1) | 0.559242 |
GradientBasedCorrMaskZeroY (2) | 0.605687 |
GradientBasedCorrMaskZeroY | 0.520821 |
GradientBasedCorrSaturation | 0.000000 |
GradientBasedCorrSharpness | 0.000000 |
GradientBasedCorrWhat | Correction |
GrainAmount | 0 |
GreenHue | 0 |
GreenSaturation | 0 |
HasCrop | False |
HasSettings | True |
HighlightRecovery | 0 |
HueAdjustmentAqua | 0 |
HueAdjustmentBlue | 0 |
HueAdjustmentGreen | 0 |
HueAdjustmentMagenta | 0 |
HueAdjustmentOrange | 0 |
HueAdjustmentPurple | 0 |
HueAdjustmentRed | 0 |
HueAdjustmentYellow | 0 |
HyperfocalDistance | 0.70 m |
ICCProfileName | Adobe RGB (1998) |
ImageHeight (1) | 2848 |
ImageHeight | 850 |
ImageNumber | 55052 |
ImageSize | 1280x850 |
ImageWidth (1) | 4288 |
ImageWidth | 1280 |
ISO | 200 |
Lens | 10.0-20.0 mm f/3.5 |
LensID (1) | 161 |
LensID | Sigma 10-20mm F3.5 EX DC HSM |
LensInfo | 10-20mm f/3.5 |
LensManualDistortionAmount | 0 |
LensModel | 10.0-20.0 mm f/3.5 |
LensProfileChromaticAberrationScale | 100 |
LensProfileDistortionScale | 100 |
LensProfileEnable | 1 |
LensProfileFilename | NIKON CORPORATION (Sigma_10-20mm_F3.5_EX_DC_HSM ) - RAW.lcp |
LensProfileName | Adobe (SIGMA 10-20mm F3.5 EX DC HSM, NIKON CORPORATION) |
LensProfileSetup | LensDefaults |
LensProfileVignettingScale | 100 |
LightSource | Unknown |
LightValue | 9.6 |
LuminanceAdjustmentAqua | 0 |
LuminanceAdjustmentBlue | 0 |
LuminanceAdjustmentGreen | 0 |
LuminanceAdjustmentMagenta | 0 |
LuminanceAdjustmentOrange | -22 |
LuminanceAdjustmentPurple | 0 |
LuminanceAdjustmentRed | -23 |
LuminanceAdjustmentYellow | -23 |
LuminanceNoiseReductionContrast | 0 |
LuminanceNoiseReductionDetail | 50 |
LuminanceSmoothing | 7 |
Make | NIKON CORPORATION |
MaxApertureValue | 3.5 |
Megapixels | 1.1 |
MeteringMode | Multi-segment |
Model | NIKON D300S |
ModifyDate (1) | 2012:11:22 22:20:29+01:00 |
ModifyDate | 2012:11:22 22:20:29 |
Orientation | Horizontal (normal) |
PaintCorrectionActive | true |
PaintCorrectionAmount | 1.000000 |
PaintCorrectionBrightness | 0.000000 |
PaintCorrectionClarity | 0.000000 |
PaintCorrectionContrast | 0.000000 |
PaintCorrectionExposure (1) | 0.262500 |
PaintCorrectionExposure (2) | 0.650000 |
PaintCorrectionExposure | 0.000000 |
PaintCorrectionHue | 70.000000 |
PaintCorrectionMaskCenterWeight (4) | 0.301835 |
PaintCorrectionMaskCenterWeight | 0.222839 |
PaintCorrectionMaskFlow | 1.000000 |
PaintCorrectionMaskRadius (1) | 0.021279 |
PaintCorrectionMaskRadius (2) | 0.021343 |
PaintCorrectionMaskRadius (3) | 0.012245 |
PaintCorrectionMaskRadius (4) | 0.012196 |
PaintCorrectionMaskRadius (5) | 0.010187 |
PaintCorrectionMaskRadius (6) | 0.010781 |
PaintCorrectionMaskRadius (7) | 0.010768 |
PaintCorrectionMaskRadius (8) | 0.012941 |
PaintCorrectionMaskRadius | 0.010185 |
PaintCorrectionMaskValue (4) | 0.000000 |
PaintCorrectionMaskValue (5) | 0.700000 |
PaintCorrectionMaskValue | 0.770000 |
PaintCorrectionMaskWhat | Mask/Paint |
PaintCorrectionSaturation | 0.000000 |
PaintCorrectionSharpness | 0.000000 |
PaintCorrectionWhat | Correction |
ParametricDarks | 0 |
ParametricHighlights | 0 |
ParametricHighlightSplit | 75 |
ParametricLights | 0 |
ParametricMidtoneSplit | 50 |
ParametricShadows | 0 |
ParametricShadowSplit | 25 |
PerspectiveHorizontal | 0 |
PerspectiveRotate | 0.0 |
PerspectiveScale | 100 |
PerspectiveVertical | 0 |
PhotometricInterpretation | RGB |
PostCropVignetteAmount | 0 |
ProcessVersion | 5.7 |
ProfileDescription | Adobe RGB (1998) |
Rating | 0 |
RawFileName | DSC_0837.NEF |
RedHue | 0 |
RedSaturation | 0 |
Rights | EVEN SCHJENKEN - EvenFoto.no |
Saturation (1) | 0 |
Saturation | Normal |
SaturationAdjustmentAqua | 0 |
SaturationAdjustmentBlue | 0 |
SaturationAdjustmentGreen | 0 |
SaturationAdjustmentMagenta | 0 |
SaturationAdjustmentOrange | 0 |
SaturationAdjustmentPurple | 0 |
SaturationAdjustmentRed | 0 |
SaturationAdjustmentYellow | 0 |
ScaleFactor35efl | 1.5 |
SceneCaptureType | Standard |
SceneType | Directly photographed |
SensingMethod | One-chip color area |
SerialNumber | 6054139 |
Shadows | 5 |
ShadowTint | 0 |
SharpenDetail | 25 |
SharpenEdgeMasking | 0 |
SharpenRadius | +1.0 |
Sharpness (1) | 29 |
Sharpness | Normal |
ShutterSpeed | 1/30 |
ShutterSpeedValue | 1/30 |
Software | Adobe Photoshop CS5.1 Macintosh |
SplitToningBalance | -73 |
SplitToningHighlightHue | 0 |
SplitToningHighlightSaturation | 33 |
SplitToningShadowHue | 297 |
SplitToningShadowSaturation | 15 |
SubjectDistance | 4294967295 m |
SubjectDistanceRange | Unknown |
Tint | -6 |
ToneCurve | 0, 0, 32, 22, 64, 56, 128, 128, 192, 196, 255, 255 |
ToneCurveName | Medium Contrast |
URL_List | |
Version | 6.5 |
Vibrance | 0 |
VignetteAmount | 0 |
WhiteBalance (1) | As Shot |
WhiteBalance | Auto |