Felt | Verdi |
AlreadyApplied | True |
Aperture | 6.7 |
ApertureValue | 6.7 |
ApproximateFocusDistance | 5.96 |
Artist | CATO HANSEN |
BitsPerSample | 8 |
BlueHue | 0 |
BlueSaturation | 0 |
Brightness | +50 |
By-line | CATO HANSEN |
CameraProfile | Adobe Standard |
CFAPattern | [Red,Green][Green,Blue] |
ChromaticAberrationB | 0 |
ChromaticAberrationR | 0 |
CircleOfConfusion | 0.030 mm |
Clarity | +37 |
ColorComponents | 3 |
ColorMode | RGB |
ColorNoiseReduction | 25 |
ColorNoiseReductionDetail | 50 |
ColorSpace | sRGB |
ColorTemperature | 4400 |
Contrast (2) | +51 |
Contrast | Normal |
ConvertToGrayscale | False |
Copyright | CATO HANSEN |
CopyrightNotice | CATO HANSEN |
CreateDate (1) | 2012:10:13 11:28:59.08+02:00 |
CreateDate | 2012:10:13 11:28:59 |
Creator | CATO HANSEN |
CreatorTool | Ver.1.02 |
CropAngle | -0.682325 |
CropBottom | 0.927173 |
CropConstrainToWarp | 0 |
CropHeight | 4 |
CropLeft | 0.038953 |
CropRight | 0.735431 |
CropTop | 0.161464 |
CropUnit | Unknown (3) |
CropWidth | 3 |
CustomRendered | Normal |
DateTimeDigitized | 2012:10:13 11:28:59.08+02:00 |
DateTimeOriginal (1) | 2012:10:13 11:28:59.08+02:00 |
DateTimeOriginal | 2012:10:13 11:28:59 |
Defringe | 0 |
DigitalZoomRatio | 1 |
DOF | 2.63 m (4.92 - 7.55 m) |
ExifImageHeight | 2203 |
ExifImageWidth | 2938 |
Exposure | -0.25 |
ExposureCompensation | 0 |
ExposureMode | Auto |
ExposureProgram | Aperture-priority AE |
ExposureTime | 1/20 |
FillLight | 0 |
Flash | No Flash |
FlashFired | False |
FlashFunction | False |
FlashMode | Unknown |
FlashRedEyeMode | False |
FlashReturn | No return detection |
FNumber | 6.7 |
FocalLength | 75.0 mm |
FocalLength35efl | 75.0 mm (35 mm equivalent: 75.0 mm) |
FocalLengthIn35mmFormat | 75 mm |
Format | image/jpeg |
FOV | 27.0 deg |
GainControl | None |
GrainAmount | 0 |
GreenHue | 0 |
GreenSaturation | 0 |
HasCrop | True |
HasSettings | True |
HighlightRecovery | 33 |
HueAdjustmentAqua | 0 |
HueAdjustmentBlue | 0 |
HueAdjustmentGreen | 0 |
HueAdjustmentMagenta | 0 |
HueAdjustmentOrange | 0 |
HueAdjustmentPurple | 0 |
HueAdjustmentRed | 0 |
HueAdjustmentYellow | 0 |
HyperfocalDistance | 27.94 m |
ICCProfileName | sRGB IEC61966-2.1 |
ImageHeight | 2203 |
ImageNumber | 14309 |
ImageSize | 2938x2203 |
ImageWidth | 2938 |
ISO | 200 |
Lens | 28.0-80.0 mm f/3.3-5.6 |
LensID (1) | 104 |
LensID | AF Zoom-Nikkor 28-80mm f/3.3-5.6G |
LensInfo | 28-80mm f/3.3-5.6 |
LensManualDistortionAmount | 0 |
LensModel | 28.0-80.0 mm f/3.3-5.6 |
LensProfileEnable | 0 |
LensProfileSetup | LensDefaults |
LightSource | Unknown |
LightValue | 8.8 |
LuminanceAdjustmentAqua | 0 |
LuminanceAdjustmentBlue | 0 |
LuminanceAdjustmentGreen | 0 |
LuminanceAdjustmentMagenta | 0 |
LuminanceAdjustmentOrange | 0 |
LuminanceAdjustmentPurple | 0 |
LuminanceAdjustmentRed | 0 |
LuminanceAdjustmentYellow | 0 |
LuminanceNoiseReductionContrast | 0 |
LuminanceNoiseReductionDetail | 50 |
LuminanceSmoothing | 68 |
Make | NIKON CORPORATION |
MaxApertureValue | 5.7 |
Megapixels | 6.5 |
MeteringMode | Multi-segment |
Model | NIKON D700 |
ModifyDate (1) | 2012:10:25 17:59:30+02:00 |
ModifyDate | 2012:10:25 17:59:30 |
Orientation | Horizontal (normal) |
ParametricDarks | 0 |
ParametricHighlights | 0 |
ParametricHighlightSplit | 75 |
ParametricLights | 0 |
ParametricMidtoneSplit | 50 |
ParametricShadows | 0 |
ParametricShadowSplit | 25 |
PerspectiveHorizontal | 0 |
PerspectiveRotate | 0.0 |
PerspectiveScale | 100 |
PerspectiveVertical | 0 |
PostCropVignetteAmount | 0 |
ProcessVersion | 5.7 |
ProfileDescription | sRGB IEC61966-2.1 |
Rating | 0 |
RawFileName | _DSC7642.NEF |
RedHue | 0 |
RedSaturation | 0 |
Rights | CATO HANSEN |
Saturation (2) | +18 |
Saturation | Normal |
SaturationAdjustmentAqua | 0 |
SaturationAdjustmentBlue | 0 |
SaturationAdjustmentGreen | 0 |
SaturationAdjustmentMagenta | 0 |
SaturationAdjustmentOrange | 0 |
SaturationAdjustmentPurple | 0 |
SaturationAdjustmentRed | 0 |
SaturationAdjustmentYellow | 0 |
ScaleFactor35efl | 1.0 |
SceneCaptureType | Standard |
SceneType | Directly photographed |
SensingMethod | One-chip color area |
SensitivityType | Unknown |
SerialNumber | 2427445 |
Shadows | 8 |
ShadowTint | 0 |
SharpenDetail | 25 |
SharpenEdgeMasking | 0 |
SharpenRadius | +1.0 |
Sharpness (2) | 46 |
Sharpness | Hard |
ShutterSpeed | 1/20 |
ShutterSpeedValue | 1/20 |
Software | Adobe Photoshop Elements 8.0 Windows |
SplitToningBalance | 0 |
SplitToningHighlightHue | 0 |
SplitToningHighlightSaturation | 0 |
SplitToningShadowHue | 0 |
SplitToningShadowSaturation | 0 |
SubjectDistance | 5.96 m |
SubjectDistanceRange | Unknown |
Tint | -12 |
ToneCurve | 0, 0, 32, 22, 64, 56, 128, 128, 192, 196, 255, 255 |
ToneCurveName | Medium Contrast |
URL_List | |
Version | 6.2 |
Vibrance | -9 |
VignetteAmount | 0 |
WhiteBalance (2) | As Shot |
WhiteBalance | Auto |