Felt | Verdi |
AlreadyApplied | True |
BitsPerSample | 8 |
BlueHue | 0 |
BlueSaturation | 0 |
Brightness | +64 |
CameraProfile | Camera Standard |
CFAPattern | [Green,Blue][Red,Green] |
ChromaticAberrationB | 0 |
ChromaticAberrationR | 0 |
Clarity | +26 |
ColorComponents | 1 |
ColorNoiseReduction | 25 |
ColorNoiseReductionDetail | 50 |
ColorTemperature | 5218 |
Contrast (2) | +45 |
Contrast | Normal |
ConvertToGrayscale | True |
CreateDate (1) | 2011:05:25 11:34:11.90+03:00 |
CreateDate | 2011:05:25 11:34:11 |
CreatorTool | Adobe Photoshop Lightroom |
CropAngle | 0 |
CropBottom | 0.976247 |
CropConstrainToWarp | 0 |
CropHeight | 2364 |
CropLeft | 0.204244 |
CropRight | 0.814834 |
CropTop | 0.064133 |
CropUnit | pixels |
CropWidth | 2364 |
CustomRendered | Normal |
DateTimeDigitized | 2011:05:25 11:34:11.90+03:00 |
DateTimeOriginal (1) | 2011:05:25 11:34:11.90+03:00 |
DateTimeOriginal | 2011:05:25 11:34:11 |
Defringe | 0 |
DigitalZoomRatio | 1 |
ExifImageHeight | 2364 |
ExifImageWidth | 2364 |
Exposure | +1.70 |
ExposureCompensation | +1/3 |
ExposureMode | Manual |
ExposureProgram | Manual |
ExposureTime | 1/200 |
FillLight | 48 |
Flash | Auto, Fired, Red-eye reduction, Return not detected |
FlashFired | True |
FlashFunction | False |
FlashMode | Auto |
FlashRedEyeMode | True |
FlashReturn | Return not detected |
GainControl | None |
GrainAmount | 34 |
GrainFrequency | 37 |
GrainSize | 25 |
GrayMixerAqua | -17 |
GrayMixerBlue | +3 |
GrayMixerGreen | -18 |
GrayMixerMagenta | +1 |
GrayMixerOrange | -11 |
GrayMixerPurple | +8 |
GrayMixerRed | -6 |
GrayMixerYellow | -12 |
GreenHue | 0 |
GreenSaturation | 0 |
HasCrop | True |
HasSettings | True |
HighlightRecovery | 0 |
ImageHeight | 2364 |
ImageNumber | 7622 |
ImageSize | 2364x2364 |
ImageWidth | 2364 |
ISO | 100 |
Lens | 0.0 mm f/0.0 |
LensInfo | 0mm f/0 |
LensManualDistortionAmount | 0 |
LensModel | 0.0 mm f/0.0 |
LensProfileEnable | 1 |
LensProfileSetup | LensDefaults |
LightSource | Fine Weather |
LuminanceSmoothing | 0 |
Make | NIKON CORPORATION |
MaxApertureValue | 1.0 |
Megapixels | 5.6 |
MeteringMode | Center-weighted average |
Model | NIKON D60 |
ModifyDate (1) | 2011:08:08 22:27:50+02:00 |
ModifyDate | 2011:08:08 22:27:50 |
ParametricDarks | 0 |
ParametricHighlights | 0 |
ParametricHighlightSplit | 75 |
ParametricLights | 0 |
ParametricMidtoneSplit | 50 |
ParametricShadows | 0 |
ParametricShadowSplit | 25 |
PerspectiveHorizontal | 0 |
PerspectiveRotate | 0.0 |
PerspectiveScale | 100 |
PerspectiveVertical | 0 |
PostCropVignetteAmount | -49 |
PostCropVignetteFeather | 50 |
PostCropVignetteHighlightContrast | 0 |
PostCropVignetteMidpoint | 52 |
PostCropVignetteRoundness | 0 |
PostCropVignetteStyle | 1 |
ProcessVersion | 5.7 |
ProfileDescription | sRGB IEC61966-2.1 |
RedHue | 0 |
RedSaturation | 0 |
Saturation | Normal |
SceneCaptureType | Standard |
SceneType | Directly photographed |
SensingMethod | One-chip color area |
SensitivityType | Unknown |
SerialNumber | 6197555 |
Shadows | 25 |
ShadowTint | 0 |
SharpenDetail | 25 |
SharpenEdgeMasking | 0 |
SharpenRadius | +0.5 |
Sharpness (2) | 40 |
Sharpness | Normal |
ShutterSpeed | 1/200 |
ShutterSpeedValue | 1/200 |
Software | Ver.1.01 |
SplitToningBalance | 0 |
SplitToningHighlightHue | 0 |
SplitToningHighlightSaturation | 0 |
SplitToningShadowHue | 0 |
SplitToningShadowSaturation | 0 |
SubjectDistanceRange | Unknown |
Tint | +2 |
ToneCurve | 0, 0, 255, 255 |
ToneCurveName | Linear |
Version | 6.2 |
VignetteAmount | 0 |
WhiteBalance (2) | Custom |
WhiteBalance | Manual |