Felt | Verdi |
AlreadyApplied | True |
Aperture | 2.8 |
ApertureValue | 2.8 |
ApproximateFocusDistance | 4294967295 |
Artist | Hanna Monsen |
BitsPerSample | 8 |
BlueHue | 0 |
BlueSaturation | 0 |
Brightness | +50 |
By-line | Hanna Monsen |
CameraProfile | Adobe Standard |
ChromaticAberrationB | 0 |
ChromaticAberrationR | 0 |
CircleOfConfusion | 0.031 mm |
Clarity | +100 |
ColorComponents | 3 |
ColorNoiseReduction | 25 |
ColorNoiseReductionDetail | 50 |
ColorTemperature | 4500 |
Contrast | +25 |
ConvertToGrayscale | False |
Copyright | Hanna Monsen |
CopyrightFlag | True |
CopyrightNotice | Hanna Monsen |
CreateDate (1) | 2012:03:01 21:20:19.19 |
CreateDate | 2012:03:01 21:20:19 |
Creator | Hanna Monsen |
CreatorAddress | Sandbakkveien 16 |
CreatorCity | Rognan |
CreatorCountry | Norway |
CreatorPostalCode | 8250 |
CreatorTool | Adobe Photoshop Lightroom 3.5 (Macintosh) |
CreatorWorkTelephone | 004748154795 |
CustomRendered | Normal |
DateCreated (1) | 2012:03:01 |
DateCreated | 2012:03:01 21:20:19.19 |
DateTimeOriginal | 2012:03:01 21:20:19 |
Defringe | 0 |
DOF | inf (2.97 m - inf) |
Exposure | 0.00 |
ExposureCompensation | 0 |
ExposureMode | Manual |
ExposureProgram | Manual |
ExposureTime | 10 |
FillLight | 0 |
Firmware | 2.0.8 |
Flash | Off, Did not fire |
FlashCompensation | 0 |
FNumber | 2.8 |
FocalLength | 16.0 mm |
FocalLength35efl | 16.0 mm (35 mm equivalent: 15.6 mm) |
FOV | 98.1 deg |
GrainAmount | 0 |
GreenHue | 0 |
GreenSaturation | 0 |
HasCrop | False |
HasSettings | True |
HighlightRecovery | 0 |
HueAdjustmentAqua | 0 |
HueAdjustmentBlue | 0 |
HueAdjustmentGreen | 0 |
HueAdjustmentMagenta | 0 |
HueAdjustmentOrange | 0 |
HueAdjustmentPurple | 0 |
HueAdjustmentRed | 0 |
HueAdjustmentYellow | 0 |
HyperfocalDistance | 2.97 m |
ImageHeight | 3744 |
ImageNumber | 0 |
ImageSize | 5616x3744 |
ImageWidth | 5616 |
ISO | 800 |
Keywords | LAND, Nordlys, SVERIGE, Silvervegen |
Lens | EF16-35mm f/2.8L II USM |
LensID (1) | 246 |
LensID | Canon EF 16-35mm f/2.8L II USM |
LensInfo | 16-35mm f/? |
LensManualDistortionAmount | 0 |
LensModel | EF16-35mm f/2.8L II USM |
LensProfileEnable | 0 |
LensProfileSetup | LensDefaults |
LightValue | -3.4 |
LuminanceAdjustmentAqua | 0 |
LuminanceAdjustmentBlue | 0 |
LuminanceAdjustmentGreen | 0 |
LuminanceAdjustmentMagenta | 0 |
LuminanceAdjustmentOrange | 0 |
LuminanceAdjustmentPurple | 0 |
LuminanceAdjustmentRed | 0 |
LuminanceAdjustmentYellow | 0 |
LuminanceSmoothing | 0 |
Make | Canon |
Marked | True |
MaxApertureValue | 2.8 |
Megapixels | 21.0 |
MeteringMode | Multi-segment |
Model | Canon EOS 5D Mark II |
ModifyDate (1) | 2012:03:06 22:15:21+01:00 |
ModifyDate | 2012:03:06 22:15:21 |
ParametricDarks | 0 |
ParametricHighlights | 0 |
ParametricHighlightSplit | 75 |
ParametricLights | +25 |
ParametricMidtoneSplit | 50 |
ParametricShadows | 0 |
ParametricShadowSplit | 25 |
PerspectiveHorizontal | 0 |
PerspectiveRotate | 0.0 |
PerspectiveScale | 100 |
PerspectiveVertical | 0 |
PostCropVignetteAmount | 0 |
ProcessVersion | 5.7 |
ProfileDescription | sRGB IEC61966-2.1 |
RedHue | 0 |
RedSaturation | 0 |
Rights | Hanna Monsen |
Saturation | 0 |
SaturationAdjustmentAqua | 0 |
SaturationAdjustmentBlue | 0 |
SaturationAdjustmentGreen | 0 |
SaturationAdjustmentMagenta | 0 |
SaturationAdjustmentOrange | 0 |
SaturationAdjustmentPurple | 0 |
SaturationAdjustmentRed | 0 |
SaturationAdjustmentYellow | 0 |
ScaleFactor35efl | 1.0 |
SceneCaptureType | Standard |
SerialNumber | 2931530751 |
Shadows | 5 |
ShadowTint | 0 |
SharpenDetail | 35 |
SharpenEdgeMasking | 0 |
SharpenRadius | +0.8 |
Sharpness | 40 |
ShutterSpeed | 10 |
ShutterSpeedValue | 10 |
Software | Adobe Photoshop Lightroom 3.5 (Macintosh) |
SplitToningBalance | 0 |
SplitToningHighlightHue | 0 |
SplitToningHighlightSaturation | 0 |
SplitToningShadowHue | 0 |
SplitToningShadowSaturation | 0 |
Subject | LAND, Nordlys, SVERIGE, Silvervegen |
SubjectDistance | 4294967295 m |
Tint | +24 |
ToneCurve | 0, 0, 32, 22, 64, 56, 128, 128, 192, 196, 255, 255 |
ToneCurveName | Medium Contrast |
Version | 6.5 |
Vibrance | 0 |
VignetteAmount | 0 |
WhiteBalance (1) | As Shot |
WhiteBalance | Auto |