Felt | Verdi |
AlreadyApplied | True |
Aperture | 7.1 |
ApertureValue | 7.1 |
BitsPerSample | 8 |
BlueHue | 0 |
BlueSaturation | 0 |
Brightness | -4 |
CameraProfile | Embedded |
CFAPattern | [Blue,Green][Green,Red] |
ChromaticAberrationB | 0 |
ChromaticAberrationR | 0 |
CircleOfConfusion | 0.020 mm |
Clarity | +90 |
ColorComponents | 3 |
ColorMode | RGB |
ColorNoiseReduction | 0 |
ColorSpace | sRGB |
Contrast (2) | +100 |
Contrast | Normal |
ConvertToGrayscale | False |
CopyrightFlag | False |
CreateDate (1) | 2010:03:23 23:56:18+01:00 |
CreateDate | 2010:03:13 11:51:43 |
CreatorTool | Adobe Photoshop CS2 Windows |
CropAngle | 0 |
CropBottom | 1 |
CropHeight | 1630 |
CropLeft | 0.183183 |
CropRight | 0.747748 |
CropTop | 0.185102 |
CropUnit | pixels |
CropWidth | 1698 |
CustomRendered | Normal |
DateTimeDigitized | 2010:03:13 11:51:43.80+01:00 |
DateTimeOriginal (1) | 2010:03:13 11:51:43.80+01:00 |
DateTimeOriginal | 2010:03:13 11:51:43 |
Defringe | 0 |
DigitalZoomRatio | 1 |
ExifImageHeight | 1689 |
ExifImageWidth | 1757 |
Exposure | -0.29 |
ExposureCompensation | 0 |
ExposureMode | Auto |
ExposureProgram | Program AE |
ExposureTime | 1/800 |
FillLight | 100 |
Flash | No Flash |
FlashFired | False |
FlashFunction | False |
FlashMode | Unknown |
FlashRedEyeMode | False |
FlashReturn | No return detection |
FNumber | 7.1 |
FocalLength | 200.0 mm |
FocalLength35efl | 200.0 mm (35 mm equivalent: 300.0 mm) |
FocalLengthIn35mmFormat | 300 mm |
Format | image/jpeg |
FOV | 6.9 deg |
GainControl | None |
GreenHue | 0 |
GreenSaturation | 0 |
HasCrop | True |
HasSettings | True |
HighlightRecovery | 0 |
HueAdjustmentAqua | 0 |
HueAdjustmentBlue | 0 |
HueAdjustmentGreen | 0 |
HueAdjustmentMagenta | 0 |
HueAdjustmentOrange | 0 |
HueAdjustmentPurple | 0 |
HueAdjustmentRed | 0 |
HueAdjustmentYellow | 0 |
HyperfocalDistance | 281.26 m |
ICCProfileName | sRGB IEC61966-2.1 |
ImageHeight (1) | 1630 |
ImageHeight | 1689 |
ImageNumber | 17298 |
ImageSize | 1757x1689 |
ImageWidth (1) | 1698 |
ImageWidth | 1757 |
IncrementalTemperature | 0 |
IncrementalTint | 0 |
ISO | 400 |
Lens | 18.0-200.0 mm f/3.5-5.6 |
LensInfo | 18-200mm f/3.5-5.6 |
LightSource | Unknown |
LightValue | 13.3 |
LuminanceAdjustmentAqua | 0 |
LuminanceAdjustmentBlue | 0 |
LuminanceAdjustmentGreen | 0 |
LuminanceAdjustmentMagenta | 0 |
LuminanceAdjustmentOrange | 0 |
LuminanceAdjustmentPurple | 0 |
LuminanceAdjustmentRed | 0 |
LuminanceAdjustmentYellow | 0 |
LuminanceSmoothing | 0 |
Make | NIKON CORPORATION |
MaxApertureValue | 5.7 |
Megapixels | 3.0 |
MeteringMode | Multi-segment |
Model | NIKON D70s |
ModifyDate (1) | 2010:04:04 14:56:27+02:00 |
ModifyDate | 2010:04:04 14:56:27 |
Orientation | Horizontal (normal) |
PaintCorrectionActive | true |
PaintCorrectionAmount | 1.000000 |
PaintCorrectionBrightness (1) | 0.200000 |
PaintCorrectionBrightness | 0.250000 |
PaintCorrectionClarity (1) | 0.150000 |
PaintCorrectionClarity | 0.475000 |
PaintCorrectionContrast | 0.000000 |
PaintCorrectionExposure | 0.000000 |
PaintCorrectionHue | 240.000000 |
PaintCorrectionMaskCenterWeight | 0.003265 |
PaintCorrectionMaskFlow | 1.000000 |
PaintCorrectionMaskRadius (3) | 0.009051 |
PaintCorrectionMaskRadius | 0.004849 |
PaintCorrectionMaskValue | 1.000000 |
PaintCorrectionMaskWhat | Mask/Paint |
PaintCorrectionSaturation (1) | 0.400000 |
PaintCorrectionSaturation (3) | 0.250000 |
PaintCorrectionSaturation | 0.000000 |
PaintCorrectionSharpness | 0.100000 |
PaintCorrectionWhat | Correction |
ParametricDarks | 0 |
ParametricHighlights | 0 |
ParametricHighlightSplit | 75 |
ParametricLights | 0 |
ParametricMidtoneSplit | 50 |
ParametricShadows | 0 |
ParametricShadowSplit | 25 |
PostCropVignetteAmount | 0 |
ProfileDescription | sRGB IEC61966-2.1 |
RedHue | 0 |
RedSaturation | 0 |
Saturation (2) | -20 |
Saturation | Low |
SaturationAdjustmentAqua | 0 |
SaturationAdjustmentBlue | 0 |
SaturationAdjustmentGreen | 0 |
SaturationAdjustmentMagenta | 0 |
SaturationAdjustmentOrange | 0 |
SaturationAdjustmentPurple | 0 |
SaturationAdjustmentRed | 0 |
SaturationAdjustmentYellow | 0 |
ScaleFactor35efl | 1.5 |
SceneCaptureType | Standard |
SceneType | Directly photographed |
SensingMethod | One-chip color area |
Shadows | 0 |
ShadowTint | 0 |
SharpenDetail | 25 |
SharpenEdgeMasking | 0 |
SharpenRadius | +1.0 |
Sharpness (2) | 0 |
Sharpness | Soft |
ShutterSpeed | 1/800 |
ShutterSpeedValue | 1/800 |
Software | Adobe Photoshop CS2 Windows |
SplitToningBalance | 0 |
SplitToningHighlightHue | 0 |
SplitToningHighlightSaturation | 0 |
SplitToningShadowHue | 0 |
SplitToningShadowSaturation | 0 |
SubjectDistanceRange | Unknown |
ToneCurve | 0, 0, 255, 255 |
ToneCurveName | Linear |
URL_List | |
Version | 4.5 |
Vibrance | -20 |
VignetteAmount | 0 |
WhiteBalance (2) | As Shot |
WhiteBalance | Manual |