Felt | Verdi |
AlreadyApplied | True |
Aperture | 11.0 |
ApertureValue | 11.0 |
Artist | {Kristine Gjesdal} |
AuthorsPosition | Användare av en digitalkamera från Nikon |
BitsPerSample | 8 |
BlueHue | 0 |
BlueSaturation | 0 |
Brightness | +23 |
By-line | {Kristine Gjesdal} |
By-lineTitle | Användare av en digitalkamera fr |
CameraProfile | ACR 4.4 |
CFAPattern | [Red,Green][Green,Blue] |
ChromaticAberrationB | 0 |
ChromaticAberrationR | 0 |
CircleOfConfusion | 0.020 mm |
Clarity | +38 |
ColorComponents | 1 |
ColorNoiseReduction | 25 |
ColorTemperature | 4850 |
Contrast (2) | +28 |
Contrast | Normal |
ConvertToGrayscale | True |
Copyright | (C)2009 {Krisitne Gjesdal}, all rights reserved |
CopyrightNotice | (C)2009 {Krisitne Gjesdal}, all rights reserved |
CreateDate (1) | 2009:08:04 21:54:56.25+02:00 |
CreateDate | 2009:08:04 21:54:56 |
Creator | {Kristine Gjesdal} |
CreatorAddress | Helleveien 202, 5039 Bergen, Norway |
CreatorTool | Nikon Transfer 1.0 W |
CropAngle | 0 |
CropBottom | 1 |
CropLeft | 0.003058 |
CropRight | 0.915902 |
CropTop | 0 |
CustomRendered | Normal |
DateTimeDigitized | 2009:08:04 21:54:56.25+02:00 |
DateTimeOriginal (1) | 2009:08:04 21:54:56.25+02:00 |
DateTimeOriginal | 2009:08:04 21:54:56 |
Defringe | 0 |
DigitalZoomRatio | 1 |
ExifImageHeight | 3914 |
ExifImageWidth | 2848 |
Exposure | 0.00 |
ExposureCompensation | 0 |
ExposureMode | Auto |
ExposureProgram | Program AE |
ExposureTime | 1/500 |
FillLight | 22 |
Flash | No Flash |
FlashFired | False |
FlashFunction | False |
FlashMode | Unknown |
FlashRedEyeMode | False |
FlashReturn | No return detection |
FNumber | 11.0 |
FocalLength | 85.0 mm |
FocalLength35efl | 85.0 mm (35 mm equivalent: 127.0 mm) |
FocalLengthIn35mmFormat | 127 mm |
FOV | 16.1 deg |
GainControl | None |
GrayMixerAqua | -18 |
GrayMixerBlue | +9 |
GrayMixerGreen | -26 |
GrayMixerMagenta | +4 |
GrayMixerOrange | -18 |
GrayMixerPurple | +15 |
GrayMixerRed | -9 |
GrayMixerYellow | -22 |
GreenHue | 0 |
GreenSaturation | 0 |
HasCrop | True |
HasSettings | True |
HighlightRecovery | 0 |
HyperfocalDistance | 32.66 m |
ImageHeight | 3914 |
ImageNumber | 3270 |
ImageSize | 2848x3914 |
ImageWidth | 2848 |
ISO | 320 |
Label | Approved |
Lens | 18.0-250.0 mm f/3.5-6.3 |
LensInfo | 18-250mm f/3.5-6.3 |
LightSource | Unknown |
LightValue | 14.2 |
LuminanceSmoothing | 0 |
Make | NIKON CORPORATION |
MaxApertureValue | 5.7 |
Megapixels | 11.1 |
MeteringMode | Spot |
Model | NIKON D300 |
ModifyDate (1) | 2010:03:03 20:41:36+01:00 |
ModifyDate | 2010:03:03 20:41:36 |
ParametricDarks | 0 |
ParametricHighlights | 0 |
ParametricHighlightSplit | 75 |
ParametricLights | 0 |
ParametricMidtoneSplit | 50 |
ParametricShadows | 0 |
ParametricShadowSplit | 25 |
PostCropVignetteAmount | 0 |
ProfileDescription | Gray Gamma 2.2 |
Rating | 0 |
RawFileName | _DSC3204.NEF |
RedHue | 0 |
RedSaturation | 0 |
Rights | (C)2009 {Krisitne Gjesdal}, all rights reserved |
Saturation | Normal |
ScaleFactor35efl | 1.5 |
SceneCaptureType | Standard |
SceneType | Directly photographed |
SensingMethod | One-chip color area |
SerialNumber | 4072331 |
Shadows | 35 |
ShadowTint | 0 |
SharpenDetail | 25 |
SharpenEdgeMasking | 0 |
SharpenRadius | +1.0 |
Sharpness (2) | 25 |
Sharpness | Normal |
ShutterSpeed | 1/500 |
ShutterSpeedValue | 1/500 |
Software | Nikon Transfer 1.0 W |
SplitToningBalance | 0 |
SplitToningHighlightHue | 0 |
SplitToningHighlightSaturation | 0 |
SplitToningShadowHue | 0 |
SplitToningShadowSaturation | 0 |
SubjectDistanceRange | Unknown |
Tint | 0 |
ToneCurve | 0, 0, 32, 22, 64, 56, 128, 128, 192, 196, 255, 255 |
ToneCurveName | Medium Contrast |
UsageTerms | Endast för påseende. Reproduktion är inte tillåten utan föregående tillåtelse |
Version | 5.0 |
VignetteAmount | 0 |
WhiteBalance (2) | As Shot |
WhiteBalance | Auto |