Felt | Verdi |
AlreadyApplied | True |
Aperture | 5.6 |
ApertureValue | 5.6 |
BitsPerSample | 8 |
BlueHue | 0 |
BlueSaturation | 0 |
Brightness | -18 |
CameraProfile | ACR 4.4 |
CFAPattern | [Red,Green][Green,Blue] |
ChromaticAberrationB | 0 |
ChromaticAberrationR | 0 |
CircleOfConfusion | 0.020 mm |
Clarity | -64 |
ColorComponents | 3 |
ColorNoiseReduction | 0 |
ColorTemperature | 5650 |
Contrast (2) | +52 |
Contrast | Normal |
ConvertToGrayscale | True |
CreateDate (1) | 2009:06:03 15:53:24.08+02:00 |
CreateDate | 2009:06:03 15:53:24 |
CreatorTool | Adobe Photoshop Lightroom |
CropAngle | 0 |
CropBottom | 1 |
CropHeight | 717 |
CropLeft | 0 |
CropRight | 0.879094 |
CropTop | 0.120907 |
CropUnit | pixels |
CropWidth | 1080 |
CustomRendered | Normal |
DateTimeDigitized | 2009:06:03 15:53:24.08+02:00 |
DateTimeOriginal (1) | 2009:06:03 15:53:24.08+02:00 |
DateTimeOriginal | 2009:06:03 15:53:24 |
Defringe | 0 |
DigitalZoomRatio | 1 |
ExifImageHeight | 1080 |
ExifImageWidth | 717 |
Exposure | +0.24 |
ExposureCompensation | 0 |
ExposureMode | Auto |
ExposureProgram | Aperture-priority AE |
ExposureTime | 1/400 |
FillLight | 62 |
Flash | No Flash |
FlashFired | False |
FlashFunction | False |
FlashMode | Unknown |
FlashRedEyeMode | False |
FlashReturn | No return detection |
FNumber | 5.6 |
FocalLength | 300.0 mm |
FocalLength35efl | 300.0 mm (35 mm equivalent: 450.0 mm) |
FocalLengthIn35mmFormat | 450 mm |
FOV | 4.6 deg |
GainControl | Low gain up |
GrayMixerAqua | -18 |
GrayMixerBlue | +9 |
GrayMixerGreen | -27 |
GrayMixerMagenta | +4 |
GrayMixerOrange | -18 |
GrayMixerPurple | +15 |
GrayMixerRed | -9 |
GrayMixerYellow | -22 |
GreenHue | 0 |
GreenSaturation | 0 |
HasCrop | True |
HasSettings | True |
HighlightRecovery | 0 |
HyperfocalDistance | 802.33 m |
ImageHeight | 1080 |
ImageNumber | 4036 |
ImageSize | 717x1080 |
ImageWidth | 717 |
ISO | 400 |
Lens | 70.0-300.0 mm f/4.0-5.6 |
LensInfo | 70-300mm f/4-5.6 |
LightSource | Cloudy |
LightValue | 11.6 |
LuminanceSmoothing | 0 |
Make | NIKON CORPORATION |
MaxApertureValue | 5.7 |
Megapixels | 0.774 |
MeteringMode | Multi-segment |
Model | NIKON D300 |
ModifyDate (1) | 2009:09:05 02:43:55+02:00 |
ModifyDate | 2009:09:05 02:43:55 |
ParametricDarks | -44 |
ParametricHighlights | +41 |
ParametricHighlightSplit | 75 |
ParametricLights | +39 |
ParametricMidtoneSplit | 50 |
ParametricShadows | -76 |
ParametricShadowSplit | 25 |
PostCropVignetteAmount | -100 |
PostCropVignetteFeather | 0 |
PostCropVignetteMidpoint | 0 |
PostCropVignetteRoundness | -100 |
ProfileDescription | sRGB IEC61966-2.1 |
RedHue | 0 |
RedSaturation | 0 |
Saturation | Normal |
ScaleFactor35efl | 1.5 |
SceneCaptureType | Standard |
SceneType | Directly photographed |
SensingMethod | One-chip color area |
SerialNumber | 5018239 |
Shadows | 36 |
ShadowTint | 0 |
SharpenDetail | 25 |
SharpenEdgeMasking | 0 |
SharpenRadius | +1.0 |
Sharpness (2) | 44 |
Sharpness | Normal |
ShutterSpeed | 1/400 |
ShutterSpeedValue | 1/400 |
Software | Ver.1.03 |
SplitToningBalance | 0 |
SplitToningHighlightHue | 55 |
SplitToningHighlightSaturation | 36 |
SplitToningShadowHue | 0 |
SplitToningShadowSaturation | 0 |
SubjectDistanceRange | Unknown |
Tint | -1 |
ToneCurve | 0, 0, 32, 22, 64, 56, 128, 128, 192, 196, 255, 255 |
ToneCurveName | Medium Contrast |
Version | 5.4 |
VignetteAmount | -76 |
VignetteMidpoint | 19 |
WhiteBalance (2) | As Shot |
WhiteBalance | Manual |