Felt | Verdi |
AlreadyApplied | True |
Aperture | 2.8 |
ApertureValue | 2.8 |
BitsPerSample | 8 |
BlueHue | 0 |
BlueSaturation | 0 |
Brightness | 0 |
CameraProfile | Embedded |
ChromaticAberrationB | 0 |
ChromaticAberrationR | 0 |
CircleOfConfusion | 0.021 mm |
Clarity | +21 |
ColorComponents | 3 |
ColorNoiseReduction | 0 |
ColorSpace | Uncalibrated |
Contrast | +93 |
ConvertToGrayscale | False |
CreateDate (1) | 2009:03:06 23:49:42+01:00 |
CreateDate | 2009:03:06 23:49:42 |
CreatorTool | Adobe Photoshop Lightroom |
CropAngle | 0.3251 |
CropBottom | 0.999366 |
CropHeight | 2316 |
CropLeft | 0.090407 |
CropRight | 0.919396 |
CropTop | 0.000717 |
CropWidth | 2918 |
CustomRendered | Normal |
DateTimeDigitized | 2009:03:06 23:49:42+01:00 |
DateTimeOriginal (1) | 2009:03:06 23:49:42+01:00 |
DateTimeOriginal | 2009:03:06 23:49:42 |
Defringe | 0 |
ExifImageHeight | 2316 |
ExifImageWidth | 2918 |
Exposure | +1.21 |
ExposureCompensation | 0 |
ExposureMode | Manual |
ExposureProgram | Manual |
ExposureTime | 1/250 |
FillLight | 9 |
Firmware | 1.0.0 |
Flash | Off, Did not fire |
FlashCompensation | 0 |
FlashFired | False |
FlashFunction | False |
FlashMode | Off |
FlashRedEyeMode | False |
FlashReturn | No return detection |
FNumber | 2.8 |
FocalLength | 16.0 mm |
FocalLength35efl | 16.0 mm (35 mm equivalent: 22.7 mm) |
FOV | 76.9 deg |
GreenHue | 0 |
GreenSaturation | 0 |
HasCrop | True |
HasSettings | True |
HighlightRecovery | 7 |
HueAdjustmentAqua | 0 |
HueAdjustmentBlue | 0 |
HueAdjustmentGreen | 0 |
HueAdjustmentMagenta | 0 |
HueAdjustmentOrange | 0 |
HueAdjustmentPurple | 0 |
HueAdjustmentRed | 0 |
HueAdjustmentYellow | 0 |
HyperfocalDistance | 4.31 m |
ImageHeight (1) | 2316 |
ImageHeight | 644 |
ImageNumber | 20637 |
ImageSize | 800x644 |
ImageWidth (1) | 2918 |
ImageWidth | 800 |
IncrementalTemperature | 0 |
IncrementalTint | 0 |
ISO | 1600 |
Lens | 16.0-35.0 mm |
LensInfo | 16-35mm f/? |
LightValue | 6.9 |
LuminanceAdjustmentAqua | 0 |
LuminanceAdjustmentBlue | -24 |
LuminanceAdjustmentGreen | 0 |
LuminanceAdjustmentMagenta | 0 |
LuminanceAdjustmentOrange | +61 |
LuminanceAdjustmentPurple | 0 |
LuminanceAdjustmentRed | +27 |
LuminanceAdjustmentYellow | 0 |
LuminanceSmoothing | 0 |
Make | Canon |
MaxApertureValue | 2.8 |
Megapixels | 0.515 |
MeteringMode | Multi-segment |
Model | Canon EOS-1D Mark II N |
ModifyDate (1) | 2009:03:07 00:59:51+01:00 |
ModifyDate | 2009:03:07 00:59:51 |
ParametricDarks | -44 |
ParametricHighlights | -4 |
ParametricHighlightSplit | 51 |
ParametricLights | +29 |
ParametricMidtoneSplit | 36 |
ParametricShadows | -100 |
ParametricShadowSplit | 10 |
ProfileDescription | sRGB IEC61966-2.1 |
RedHue | 0 |
RedSaturation | 0 |
Saturation | -57 |
SaturationAdjustmentAqua | 0 |
SaturationAdjustmentBlue | -15 |
SaturationAdjustmentGreen | 0 |
SaturationAdjustmentMagenta | 0 |
SaturationAdjustmentOrange | +11 |
SaturationAdjustmentPurple | 0 |
SaturationAdjustmentRed | +4 |
SaturationAdjustmentYellow | 0 |
ScaleFactor35efl | 1.4 |
SceneCaptureType | Standard |
SerialNumber | 408700 |
Shadows | 0 |
ShadowTint | 0 |
SharpenDetail | 0 |
SharpenEdgeMasking | 49 |
SharpenRadius | +1.0 |
Sharpness | 12 |
ShutterSpeed | 1/250 |
ShutterSpeedValue | 1/250 |
Software | Adobe Photoshop Lightroom |
SplitToningBalance | -50 |
SplitToningHighlightHue | 241 |
SplitToningHighlightSaturation | 12 |
SplitToningShadowHue | 0 |
SplitToningShadowSaturation | 0 |
ToneCurve | 0, 0, 255, 255 |
ToneCurveName | Linear |
Version | 5.3 |
Vibrance | +99 |
VignetteAmount | -60 |
VignetteMidpoint | 36 |
WhiteBalance (1) | As Shot |
WhiteBalance | Auto |