Felt | Verdi |
AlreadyApplied | True |
Aperture | 1.8 |
ApertureValue | 1.8 |
AutoLateralCA | 0 |
AutoWhiteVersion | 134348800 |
BitsPerSample | 8 |
Blacks2012 | -41 |
BlueHue | 0 |
BlueSaturation | 0 |
BrightnessValue | 2.479466752 |
CameraProfile | Adobe Standard |
CircleOfConfusion | 0.005 mm |
Clarity2012 | +24 |
ColorComponents | 3 |
ColorNoiseReduction | 25 |
ColorNoiseReductionDetail | 50 |
ColorNoiseReductionSmoothness | 50 |
ColorTransform | YCbCr |
Contrast2012 | +5 |
ConvertToGrayscale | False |
CreateDate (1) | 2023:10:12 15:37:16.591 |
CreateDate | 2023:10:12 15:37:16 |
CreatorTool | Adobe Photoshop Lightroom 5.7 (Windows) |
CropAngle | 0 |
CropBottom | 0.917969 |
CropConstrainToWarp | 0 |
CropLeft | 0.014641 |
CropRight | 0.856515 |
CropTop | 0.082031 |
DateCreated (1) | 2023:10:12 |
DateCreated | 2023:10:12 15:37:16.591 |
DateTimeOriginal | 2023:10:12 15:37:16 |
DefringeGreenAmount | 0 |
DefringeGreenHueHi | 60 |
DefringeGreenHueLo | 40 |
DefringePurpleAmount | 0 |
DefringePurpleHueHi | 70 |
DefringePurpleHueLo | 30 |
Exposure2012 | +0.50 |
ExposureCompensation | 0 |
ExposureMode | Auto |
ExposureProgram | Program AE |
ExposureTime | 1/50 |
Flash | Off, Did not fire |
FNumber | 1.8 |
FocalLength | 4.2 mm |
FocalLength35efl | 4.2 mm (35 mm equivalent: 26.0 mm) |
FocalLengthIn35mmFormat | 26 mm |
Format | image/jpeg |
FOV | 69.4 deg |
GrainAmount | 0 |
GreenHue | 0 |
GreenSaturation | 0 |
HasCrop | True |
HasSettings | True |
Highlights2012 | -78 |
HueAdjustmentAqua | 0 |
HueAdjustmentBlue | 0 |
HueAdjustmentGreen | 0 |
HueAdjustmentMagenta | 0 |
HueAdjustmentOrange | 0 |
HueAdjustmentPurple | 0 |
HueAdjustmentRed | 0 |
HueAdjustmentYellow | 0 |
HyperfocalDistance | 2.04 m |
ImageHeight | 3394 |
ImageSize | 2528x3394 |
ImageWidth | 2528 |
IncrementalTemperature | 0 |
IncrementalTint | 0 |
ISO | 125 |
Lens | iPhone 11 back dual wide camera 4.25mm f/1.8 |
LensInfo (1) | 1.53999996185121-4.25mm f/1.8-2.4 |
LensInfo | 1.539999962-4.25mm f/1.8-2.4 |
LensMake | Apple |
LensManualDistortionAmount | 0 |
LensModel | iPhone 11 back dual wide camera 4.25mm f/1.8 |
LensProfileEnable | 0 |
LensProfileSetup | LensDefaults |
LightValue | 7.0 |
LuminanceAdjustmentAqua | 0 |
LuminanceAdjustmentBlue | 0 |
LuminanceAdjustmentGreen | 0 |
LuminanceAdjustmentMagenta | 0 |
LuminanceAdjustmentOrange | 0 |
LuminanceAdjustmentPurple | 0 |
LuminanceAdjustmentRed | 0 |
LuminanceAdjustmentYellow | 0 |
LuminanceSmoothing | 0 |
Make | Apple |
Megapixels | 8.6 |
MeteringMode | Multi-segment |
Model | iPhone 11 |
ModifyDate (1) | 2023:10:12 16:54:26+02:00 |
ModifyDate | 2023:10:12 16:54:26 |
ParametricDarks | 0 |
ParametricHighlights | 0 |
ParametricHighlightSplit | 75 |
ParametricLights | 0 |
ParametricMidtoneSplit | 50 |
ParametricShadows | 0 |
ParametricShadowSplit | 25 |
PerspectiveAspect | 0 |
PerspectiveHorizontal | 0 |
PerspectiveRotate | 0.0 |
PerspectiveScale | 100 |
PerspectiveUpright | 0 |
PerspectiveVertical | 0 |
PostCropVignetteAmount | 0 |
ProcessVersion | 6.7 |
ProfileDescription | sRGB IEC61966-2.1 |
RedHue | 0 |
RedSaturation | 0 |
Saturation | +20 |
SaturationAdjustmentAqua | 0 |
SaturationAdjustmentBlue | 0 |
SaturationAdjustmentGreen | 0 |
SaturationAdjustmentMagenta | 0 |
SaturationAdjustmentOrange | 0 |
SaturationAdjustmentPurple | 0 |
SaturationAdjustmentRed | 0 |
SaturationAdjustmentYellow | 0 |
ScaleFactor35efl | 6.1 |
SceneCaptureType | Standard |
SceneType | Directly photographed |
SensingMethod | One-chip color area |
Shadows2012 | +74 |
ShadowTint | 0 |
SharpenDetail | 25 |
SharpenEdgeMasking | 0 |
SharpenRadius | +1.0 |
Sharpness | 25 |
ShutterSpeed | 1/50 |
ShutterSpeedValue | 1/50 |
Software | Adobe Photoshop Lightroom 5.7 (Windows) |
SplitToningBalance | 0 |
SplitToningHighlightHue | 0 |
SplitToningHighlightSaturation | 0 |
SplitToningShadowHue | 0 |
SplitToningShadowSaturation | 0 |
SubjectArea | 1994 1497 2204 1385 |
ToneCurve | 0, 0, 255, 255 |
ToneCurveBlue | 0, 0, 255, 255 |
ToneCurveGreen | 0, 0, 255, 255 |
ToneCurveName | Linear |
ToneCurveName2012 | Linear |
ToneCurvePV2012 | 0, 0, 255, 255 |
ToneCurvePV2012Blue | 0, 0, 255, 255 |
ToneCurvePV2012Green | 0, 0, 255, 255 |
ToneCurvePV2012Red | 0, 0, 255, 255 |
ToneCurveRed | 0, 0, 255, 255 |
Version | 8.7 |
Vibrance | +39 |
VignetteAmount | 0 |
WhiteBalance (1) | As Shot |
WhiteBalance | Auto |
Whites2012 | +36 |