Felt | Verdi |
AlreadyApplied | True |
Aperture | 2.8 |
ApertureValue | 2.8 |
AutoLateralCA | 1 |
BitsPerSample | 8 |
Blacks2012 | -10 |
BlueHue | -10 |
BlueSaturation | -10 |
BrightnessValue | -5.25625 |
CameraProfile | Adobe Standard |
CircleOfConfusion | 0.030 mm |
Clarity2012 | -13 |
ColorComponents | 3 |
ColorNoiseReduction | 25 |
ColorNoiseReductionDetail | 50 |
ColorNoiseReductionSmoothness | 50 |
ColorSpace | sRGB |
ColorTemperature | 4503 |
ColorTransform | YCbCr |
Contrast | Normal |
Contrast2012 | -22 |
ConvertToGrayscale | False |
CreateDate (1) | 2020:04:24 21:14:34.1 |
CreateDate | 2020:04:24 21:14:34 |
CreatorTool | Adobe Photoshop Lightroom Classic 9.2 (Macintosh) |
CropAngle | 0.180534 |
CropBottom | 0.9913 |
CropConstrainToWarp | 1 |
CropLeft | 0.159647 |
CropRight | 0.929892 |
CropTop | 0.056983 |
CustomRendered | Normal |
DateCreated (1) | 2020:04:24 |
DateCreated | 2020:04:24 21:14:34 |
DateTimeOriginal | 2020:04:24 21:14:34 |
DefringeGreenAmount | 0 |
DefringeGreenHueHi | 60 |
DefringeGreenHueLo | 40 |
DefringePurpleAmount | 0 |
DefringePurpleHueHi | 70 |
DefringePurpleHueLo | 30 |
Dehaze | 0 |
DigitalZoomRatio | 1 |
DistortionCorrectionAlreadyApplied | True |
Exposure2012 | +2.55 |
ExposureCompensation | 0 |
ExposureMode | Manual |
ExposureProgram | Manual |
ExposureTime | 1/30 |
Flash | Off, Did not fire |
FNumber | 2.8 |
FocalLength | 28.0 mm |
FocalLength35efl | 28.0 mm (35 mm equivalent: 28.0 mm) |
FocalLengthIn35mmFormat | 28 mm |
Format | image/jpeg |
FOV | 65.5 deg |
GradientBasedCorrActive | true |
GradientBasedCorrAmount | 1.000000 |
GradientBasedCorrBrightness | 0.000000 |
GradientBasedCorrClarity2012 (1) | 0.100000 |
GradientBasedCorrClarity2012 | 0.000000 |
GradientBasedCorrContrast2012 | 0.000000 |
GradientBasedCorrCorrectionRangeMaskColorAmount | 0.500000 |
GradientBasedCorrCorrectionRangeMaskDepthFeather | 0.500000 |
GradientBasedCorrCorrectionRangeMaskDepthMax | 1.000000 |
GradientBasedCorrCorrectionRangeMaskDepthMin | 0.000000 |
GradientBasedCorrCorrectionRangeMaskLumFeather | 0.500000 |
GradientBasedCorrCorrectionRangeMaskLumMax | 1.000000 |
GradientBasedCorrCorrectionRangeMaskLumMin | 0.000000 |
GradientBasedCorrCorrectionRangeMaskType | 0 |
GradientBasedCorrCorrectionRangeMaskVersion | +2 |
GradientBasedCorrDefringe | 0.000000 |
GradientBasedCorrExposure2012 (1) | 0.076540 |
GradientBasedCorrExposure2012 | -0.138709 |
GradientBasedCorrHighlights2012 | 0.000000 |
GradientBasedCorrHue | 240.000000 |
GradientBasedCorrLocalBlacks2012 | 0.000000 |
GradientBasedCorrLocalDehaze | 0.000000 |
GradientBasedCorrLocalTexture | 0.000000 |
GradientBasedCorrLocalWhites2012 | 0.000000 |
GradientBasedCorrLuminanceNoise | 0.000000 |
GradientBasedCorrMaskFullX (1) | 0.588403 |
GradientBasedCorrMaskFullX | 0.510229 |
GradientBasedCorrMaskFullY (1) | 0.173738 |
GradientBasedCorrMaskFullY | 0.971578 |
GradientBasedCorrMaskValue | 1.000000 |
GradientBasedCorrMaskWhat | Mask/Gradient |
GradientBasedCorrMaskZeroX (1) | 0.596559 |
GradientBasedCorrMaskZeroX | 0.568779 |
GradientBasedCorrMaskZeroY (1) | 0.586957 |
GradientBasedCorrMaskZeroY | 0.786192 |
GradientBasedCorrMoire | 0.000000 |
GradientBasedCorrSaturation | 0.000000 |
GradientBasedCorrShadows2012 | 0.000000 |
GradientBasedCorrSharpness | 0.000000 |
GradientBasedCorrTemperature (1) | 0.294085 |
GradientBasedCorrTemperature | 0.000000 |
GradientBasedCorrTint | 0.000000 |
GradientBasedCorrWhat | Correction |
GrainAmount | 0 |
GreenHue | +10 |
GreenSaturation | -10 |
HasCrop | True |
HasSettings | True |
Highlights2012 | -27 |
HueAdjustmentAqua | -5 |
HueAdjustmentBlue | -17 |
HueAdjustmentGreen | +15 |
HueAdjustmentMagenta | +25 |
HueAdjustmentOrange | -5 |
HueAdjustmentPurple | +15 |
HueAdjustmentRed | +5 |
HueAdjustmentYellow | +5 |
HyperfocalDistance | 9.32 m |
ImageHeight | 4000 |
ImageSize | 3200x4000 |
ImageWidth | 3200 |
IsMergedPanorama | True |
ISO | 1000 |
LateralChromaticAberrationCorrectionAlreadyApplied | True |
Lens | E 28-75mm F2.8-2.8 |
LensDistortInfo | 33308/32768 -66644388/1073741824 27241987/1073741824 4968310/1073741824 |
LensInfo | 28-75mm f/2.8 |
LensManualDistortionAmount | 0 |
LensModel | E 28-75mm F2.8-2.8 |
LensProfileChromaticAberrationScale | 100 |
LensProfileDistortionScale | 0 |
LensProfileEnable | 1 |
LensProfileFilename | SONY (TAMRON 28-75mm F_2.8 Di III RXD A036) - RAW.lcp |
LensProfileName | Adobe (TAMRON 28-75mm F/2.8 Di III RXD A036, SONY) |
LensProfileSetup | Custom |
LensProfileVignettingScale | 0 |
LightSource | Daylight |
LightValue | 4.6 |
LookName | |
LuminanceAdjustmentAqua | 0 |
LuminanceAdjustmentBlue | -10 |
LuminanceAdjustmentGreen | -15 |
LuminanceAdjustmentMagenta | +15 |
LuminanceAdjustmentOrange | -5 |
LuminanceAdjustmentPurple | 0 |
LuminanceAdjustmentRed | 0 |
LuminanceAdjustmentYellow | 0 |
LuminanceSmoothing | 0 |
Make | SONY |
MaxApertureValue | 2.8 |
Megapixels | 12.8 |
MeteringMode | Multi-segment |
Model | ILCE-7M2 |
ModifyDate (1) | 2020:04:26 00:07:22+02:00 |
ModifyDate | 2020:04:26 00:07:22 |
OverrideLookVignette | False |
ParametricDarks | 0 |
ParametricHighlights | 0 |
ParametricHighlightSplit | 70 |
ParametricLights | 0 |
ParametricMidtoneSplit | 50 |
ParametricShadows | 0 |
ParametricShadowSplit | 25 |
PerspectiveAspect | 0 |
PerspectiveHorizontal | 0 |
PerspectiveRotate | 0.0 |
PerspectiveScale | 100 |
PerspectiveUpright | 0 |
PerspectiveVertical | 0 |
PerspectiveX | 0.00 |
PerspectiveY | 0.00 |
PostCropVignetteAmount | -21 |
PostCropVignetteFeather | 50 |
PostCropVignetteHighlightContrast | 0 |
PostCropVignetteMidpoint | 50 |
PostCropVignetteRoundness | 0 |
PostCropVignetteStyle | 1 |
PreservedFileName | _DSC2090.ARW |
ProcessVersion | 11.0 |
ProfileDescription | sRGB IEC61966-2.1 |
RawFileName | |
RecommendedExposureIndex | 1000 |
RedHue | 0 |
RedSaturation | +10 |
Saturation (1) | +5 |
Saturation | Normal |
SaturationAdjustmentAqua | -20 |
SaturationAdjustmentBlue | -18 |
SaturationAdjustmentGreen | -10 |
SaturationAdjustmentMagenta | -20 |
SaturationAdjustmentOrange | -10 |
SaturationAdjustmentPurple | -25 |
SaturationAdjustmentRed | -10 |
SaturationAdjustmentYellow | -11 |
ScaleFactor35efl | 1.0 |
SceneCaptureType | Standard |
SceneType | Directly photographed |
SensitivityType | Recommended Exposure Index |
Shadows2012 | +27 |
ShadowTint | -4 |
SharpenDetail | 25 |
SharpenEdgeMasking | 0 |
SharpenRadius | +1.0 |
Sharpness (1) | 25 |
Sharpness | Normal |
ShutterSpeed | 1/30 |
ShutterSpeedValue | 1/30 |
Software | Adobe Photoshop Lightroom Classic 9.2 (Macintosh) |
SplitToningBalance | 0 |
SplitToningHighlightHue | 0 |
SplitToningHighlightSaturation | 0 |
SplitToningShadowHue | 0 |
SplitToningShadowSaturation | 0 |
Texture | +6 |
Tint | +5 |
ToneCurve | 0, 0, 255, 255 |
ToneCurveBlue | 0, 0, 255, 255 |
ToneCurveGreen | 0, 0, 255, 255 |
ToneCurveName | Linear |
ToneCurveName2012 | Custom |
ToneCurvePV2012 | 0, 30, 61, 76, 190, 189, 255, 223 |
ToneCurvePV2012Blue | 0, 0, 46, 22, 121, 124, 216, 221, 255, 249 |
ToneCurvePV2012Green | 0, 5, 37, 22, 119, 127, 176, 189, 207, 215, 255, 252 |
ToneCurvePV2012Red | 0, 9, 38, 24, 118, 124, 173, 188, 255, 252 |
ToneCurveRed | 0, 0, 255, 255 |
ToneMapStrength | 0 |
Transformation | Perspective |
Version | 12.2 |
Vibrance | 0 |
VignetteAmount | 0 |
VignetteCorrectionAlreadyApplied | True |
VirtualFocalLength | 0.636981 |
VirtualImageXCenter | 0.488646 |
VirtualImageYCenter | 0.51067 |
WhiteBalance (1) | Custom |
WhiteBalance | Manual |
Whites2012 | -100 |