Felt | Verdi |
AlreadyApplied | True |
Aperture | 7.1 |
ApertureValue | 7.1 |
ApproximateFocusDistance | 1.19 |
Artist | rtj |
AutoLateralCA | 1 |
AutoWhiteVersion | 134348800 |
BitsPerSample | 8 |
Blacks2012 | -53 |
BlueHue | 0 |
BlueSaturation | +28 |
By-line | rtj |
CameraProfile | Adobe Standard |
CFAPattern | [Red,Green][Green,Blue] |
CircleOfConfusion | 0.030 mm |
Clarity2012 | +19 |
ColorComponents | 3 |
ColorNoiseReduction | 25 |
ColorNoiseReductionDetail | 50 |
ColorNoiseReductionSmoothness | 50 |
ColorSpace | sRGB |
ColorTemperature | 6255 |
ColorTransform | YCbCr |
Contrast | Normal |
Contrast2012 | +9 |
ConvertToGrayscale | False |
Copyright | ROLF_JOHNSEN |
CopyrightNotice | ROLF_JOHNSEN |
CreateDate (1) | 2019:02:03 12:09:36.56 |
CreateDate | 2019:02:03 12:09:36 |
Creator | rtj |
CreatorTool | Adobe Photoshop Lightroom 6.8 (Windows) |
CropAngle | -3.0723 |
CropBottom | 0.864243 |
CropConstrainToWarp | 0 |
CropLeft | 0.117599 |
CropRight | 0.817344 |
CropTop | 0.34651 |
CustomRendered | Normal |
DateCreated (1) | 2019:02:03 |
DateCreated | 2019:02:03 12:09:36.56 |
DateTimeOriginal | 2019:02:03 12:09:36 |
DefringeGreenAmount | 0 |
DefringeGreenHueHi | 60 |
DefringeGreenHueLo | 40 |
DefringePurpleAmount | 0 |
DefringePurpleHueHi | 70 |
DefringePurpleHueLo | 30 |
Dehaze | 0 |
DigitalZoomRatio | 1 |
DOF | inf (0.56 m - inf) |
Exposure2012 | -0.32 |
ExposureCompensation | 0 |
ExposureMode | Manual |
ExposureProgram | Manual |
ExposureTime | 1/1000 |
Flash | Off, Did not fire |
FNumber | 7.1 |
FocalLength | 15.0 mm |
FocalLength35efl | 15.0 mm (35 mm equivalent: 15.0 mm) |
FocalLengthIn35mmFormat | 15 mm |
Format | image/jpeg |
FOV | 100.4 deg |
GainControl | Low gain up |
GradientBasedCorrActive | true |
GradientBasedCorrAmount | 1.000000 |
GradientBasedCorrBrightness | 0.000000 |
GradientBasedCorrClarity2012 (1) | 0.444440 |
GradientBasedCorrClarity2012 (2) | 0.027780 |
GradientBasedCorrClarity2012 | 0.319440 |
GradientBasedCorrContrast2012 | 0.416670 |
GradientBasedCorrDefringe | 0.000000 |
GradientBasedCorrExposure2012 (1) | -0.375000 |
GradientBasedCorrExposure2012 (2) | 0.333250 |
GradientBasedCorrExposure2012 | 0.277750 |
GradientBasedCorrHighlights2012 | -0.013890 |
GradientBasedCorrHue | 8.000000 |
GradientBasedCorrLocalBlacks2012 | -0.055560 |
GradientBasedCorrLocalDehaze | 0.000000 |
GradientBasedCorrLocalWhites2012 (2) | 0.486110 |
GradientBasedCorrLocalWhites2012 | 0.000000 |
GradientBasedCorrLuminanceNoise (1) | 0.361110 |
GradientBasedCorrLuminanceNoise | 0.000000 |
GradientBasedCorrMaskFullX (1) | 0.403299 |
GradientBasedCorrMaskFullX (2) | 0.542398 |
GradientBasedCorrMaskFullX | 0.477053 |
GradientBasedCorrMaskFullY (1) | 0.397294 |
GradientBasedCorrMaskFullY (2) | 0.230808 |
GradientBasedCorrMaskFullY | 0.698635 |
GradientBasedCorrMaskValue | 1.000000 |
GradientBasedCorrMaskWhat | Mask/Gradient |
GradientBasedCorrMaskZeroX (1) | 0.430773 |
GradientBasedCorrMaskZeroX (2) | 0.528508 |
GradientBasedCorrMaskZeroX | 0.448987 |
GradientBasedCorrMaskZeroY (1) | 0.525145 |
GradientBasedCorrMaskZeroY (2) | 0.426874 |
GradientBasedCorrMaskZeroY | 0.587284 |
GradientBasedCorrMoire | 0.000000 |
GradientBasedCorrSaturation | 0.000000 |
GradientBasedCorrShadows2012 | -0.013890 |
GradientBasedCorrSharpness (1) | 0.305560 |
GradientBasedCorrSharpness (2) | 0.000000 |
GradientBasedCorrSharpness | 0.236110 |
GradientBasedCorrTemperature (1) | -0.444440 |
GradientBasedCorrTemperature | -0.027780 |
GradientBasedCorrTint | 0.000000 |
GradientBasedCorrWhat | Correction |
GrainAmount | 0 |
GreenHue | 0 |
GreenSaturation | 0 |
HasCrop | True |
HasSettings | True |
Highlights2012 | +6 |
HueAdjustmentAqua | 0 |
HueAdjustmentBlue | 0 |
HueAdjustmentGreen | 0 |
HueAdjustmentMagenta | 0 |
HueAdjustmentOrange | 0 |
HueAdjustmentPurple | 0 |
HueAdjustmentRed | 0 |
HueAdjustmentYellow | 0 |
HyperfocalDistance | 1.05 m |
ImageHeight | 2302 |
ImageNumber | 17259 |
ImageSize | 4092x2302 |
ImageWidth | 4092 |
ISO | 400 |
Lens | TAMRON SP 15-30mm F2.8 Di VC USD A012N |
LensID (1) | 233 |
LensID | Tamron SP 15-30mm f/2.8 Di VC USD (A012) |
LensInfo | 15-30mm f/2.8 |
LensManualDistortionAmount | 0 |
LensModel | TAMRON SP 15-30mm F2.8 Di VC USD A012N |
LensProfileChromaticAberrationScale | 100 |
LensProfileDistortionScale | 100 |
LensProfileEnable | 1 |
LensProfileFilename | NIKON CORPORATION (TAMRON SP 15-30mm F_2.8 Di VC USD A012N) - RAW.lcp |
LensProfileName | Adobe (TAMRON SP 15-30mm F2.8 Di VC USD A012N, NIKON CORPORATION) |
LensProfileSetup | LensDefaults |
LensProfileVignettingScale | 100 |
LightSource | Unknown |
LightValue | 13.6 |
LuminanceAdjustmentAqua | 0 |
LuminanceAdjustmentBlue | 0 |
LuminanceAdjustmentGreen | 0 |
LuminanceAdjustmentMagenta | 0 |
LuminanceAdjustmentOrange | 0 |
LuminanceAdjustmentPurple | 0 |
LuminanceAdjustmentRed | 0 |
LuminanceAdjustmentYellow | 0 |
LuminanceNoiseReductionContrast | 35 |
LuminanceNoiseReductionDetail | 50 |
LuminanceSmoothing | 34 |
Make | NIKON CORPORATION |
MaxApertureValue | 2.8 |
Megapixels | 9.4 |
MeteringMode | Spot |
Model | NIKON D750 |
ModifyDate (1) | 2019:02:03 16:09:05+01:00 |
ModifyDate | 2019:02:03 16:09:05 |
PaintCorrectionActive | true |
PaintCorrectionAmount | 1.000000 |
PaintCorrectionBrightness | 0.000000 |
PaintCorrectionClarity2012 (1) | 0.638890 |
PaintCorrectionClarity2012 (2) | 0.458330 |
PaintCorrectionClarity2012 (3) | 0.472220 |
PaintCorrectionClarity2012 | 0.027780 |
PaintCorrectionContrast2012 (2) | 0.611110 |
PaintCorrectionContrast2012 (3) | 0.708330 |
PaintCorrectionContrast2012 | 0.416670 |
PaintCorrectionDefringe | 0.000000 |
PaintCorrectionExposure2012 (1) | 0.972250 |
PaintCorrectionExposure2012 (2) | 0.222250 |
PaintCorrectionExposure2012 (3) | 0.236000 |
PaintCorrectionExposure2012 | 0.166750 |
PaintCorrectionHighlights2012 | -0.013890 |
PaintCorrectionHue | 8.000000 |
PaintCorrectionLocalBlacks2012 (2) | -0.611110 |
PaintCorrectionLocalBlacks2012 (3) | -0.055560 |
PaintCorrectionLocalBlacks2012 | 0.472220 |
PaintCorrectionLocalDehaze | 0.000000 |
PaintCorrectionLocalWhites2012 (1) | 0.222220 |
PaintCorrectionLocalWhites2012 (2) | 0.763890 |
PaintCorrectionLocalWhites2012 (3) | 0.486110 |
PaintCorrectionLocalWhites2012 | 0.527780 |
PaintCorrectionLuminanceNoise (1) | 0.513890 |
PaintCorrectionLuminanceNoise (2) | 0.458330 |
PaintCorrectionLuminanceNoise | 0.000000 |
PaintCorrectionMaskCenterWeight | 0.013025 |
PaintCorrectionMaskFlow | 0.566000 |
PaintCorrectionMaskRadius (1) | 0.075934 |
PaintCorrectionMaskRadius (2) | 0.036368 |
PaintCorrectionMaskRadius (3) | 0.035909 |
PaintCorrectionMaskRadius (4) | 0.035618 |
PaintCorrectionMaskRadius (5) | 0.036183 |
PaintCorrectionMaskRadius (6) | 0.035402 |
PaintCorrectionMaskRadius | 0.050221 |
PaintCorrectionMaskValue | 0.753000 |
PaintCorrectionMaskWhat | Mask/Paint |
PaintCorrectionMoire | 0.000000 |
PaintCorrectionSaturation | 0.000000 |
PaintCorrectionShadows2012 (3) | 0.430560 |
PaintCorrectionShadows2012 | -0.013890 |
PaintCorrectionSharpness (1) | 0.458330 |
PaintCorrectionSharpness | 0.000000 |
PaintCorrectionTemperature (1) | 0.694440 |
PaintCorrectionTemperature (3) | -0.027780 |
PaintCorrectionTemperature | 0.805560 |
PaintCorrectionTint | 0.000000 |
PaintCorrectionWhat | Correction |
ParametricDarks | 0 |
ParametricHighlights | 0 |
ParametricHighlightSplit | 75 |
ParametricLights | 0 |
ParametricMidtoneSplit | 50 |
ParametricShadows | 0 |
ParametricShadowSplit | 25 |
PerspectiveAspect | 0 |
PerspectiveHorizontal | 0 |
PerspectiveRotate | 0.0 |
PerspectiveScale | 100 |
PerspectiveUpright | 0 |
PerspectiveVertical | 0 |
PerspectiveX | 0.00 |
PerspectiveY | 0.00 |
PostCropVignetteAmount | 0 |
ProcessVersion | 6.7 |
ProfileDescription | sRGB IEC61966-2.1 |
RedHue | 0 |
RedSaturation | 0 |
Rights | ROLF_JOHNSEN |
Saturation (1) | 0 |
Saturation | Normal |
SaturationAdjustmentAqua | 0 |
SaturationAdjustmentBlue | 0 |
SaturationAdjustmentGreen | 0 |
SaturationAdjustmentMagenta | 0 |
SaturationAdjustmentOrange | 0 |
SaturationAdjustmentPurple | 0 |
SaturationAdjustmentRed | 0 |
SaturationAdjustmentYellow | 0 |
ScaleFactor35efl | 1.0 |
SceneCaptureType | Standard |
SceneType | Directly photographed |
SensingMethod | One-chip color area |
SensitivityType | Recommended Exposure Index |
SerialNumber | 6137599 |
Shadows2012 | -16 |
ShadowTint | 0 |
SharpenDetail | 25 |
SharpenEdgeMasking | 28 |
SharpenRadius | +1.0 |
Sharpness (1) | 25 |
Sharpness | Normal |
ShutterSpeed | 1/1000 |
ShutterSpeedValue | 1/1000 |
Software | Adobe Photoshop Lightroom 6.8 (Windows) |
SplitToningBalance | 0 |
SplitToningHighlightHue | 0 |
SplitToningHighlightSaturation | 0 |
SplitToningShadowHue | 0 |
SplitToningShadowSaturation | 0 |
SubjectDistanceRange | Unknown |
Tint | +5 |
ToneCurve | 0, 0, 255, 255 |
ToneCurveBlue | 0, 0, 255, 255 |
ToneCurveGreen | 0, 0, 255, 255 |
ToneCurveName | Linear |
ToneCurveName2012 | Linear |
ToneCurvePV2012 | 0, 0, 255, 255 |
ToneCurvePV2012Blue | 0, 0, 255, 255 |
ToneCurvePV2012Green | 0, 0, 255, 255 |
ToneCurvePV2012Red | 0, 0, 255, 255 |
ToneCurveRed | 0, 0, 255, 255 |
ToneMapStrength | 0 |
Version | 9.8 |
Vibrance | 0 |
VignetteAmount | 0 |
WhiteBalance (1) | Custom |
WhiteBalance | Auto |
Whites2012 | +40 |